Workbook

Sheet Instructions
B1: Model Name | C1: Riparian Ecological Function Index (REFI) | J1: Color Coding Key:
B2: Developers | C2: Samantha Wiest, Garrett Menichino, and Kyle McKay | J2: Input
C3: U.S. Army Engineer Research and Development Center, Environmental Laboratory | J3: Calculated
C4: Vicksburg, MS | J4: Linked to Another Sheet
C5: Samantha.R.Wiest@erdc.dren.mil, Garrett.T.Menichino@usace.army.mil
B7: Model Version | C7: REFI v1.1
B8: Date of Last Update | C8: 45736
B10: Waiver | C10: This model is provided for free as part of the USACE Technical Report "Riparian Ecological Function Index (REFI)" by Samantha R. Wiest, Garrett T. Menichino, and S. Kyle Mckay
C11: None of the authors nor the US Army Corps of Engineers accepts responsibility or liability for the model's use by third parties.
B13: Password | C13: Riparian
B15: Instructions
B16: 1) | C16: Add the field site information into the orange cells at the top of the worksheet.
B17: 2) | C17: Record the indicator scores using the Likert scale drop-down menu in the orange cells of Column J.
B18: 3) | C18: Record the manual variable scores by entering a quantitative value between 0-15 in the orange cells of column H.
B19: 4) | C19: Once the indicator and variable scores are recorded, the category, outcome, and overall REFI scores will auto-populate along with the bar charts to the right
B20: 5) | C20: Record other indicators, notes, or regional outliers in the grey box at the bottom of the worksheet
B22: Comments/Assumptions
B23: 1) | C23: For the default scoring approach, the user determines a score based on a scale of 0-15. For optional scoring, the spreadsheet will automatically convert the Likert scale scores (column J) to a suggested 0-15 value for comparison (column G). The user can reference the "Build the Case" table to the right as a reasonableness check on the manually entered scores.
B24: 2) | C24: The only two variables that can be scored with “NA” are the Canopy Habitat and Understory Habitat variables. Variable scores of “NA” are not included in the calculation.

Sheet REFI Score Calculator
A1: Riparian Ecological Function Index (REFI)
A2: Reach/ID | F2: River Bank | G2: Left / & / Right
A3: Lat/Long | F3: Reach Length (ft)
A4: Date | F4: Min Buffer Width (ft) | G4: 0-30 / 30-100 / 100+
A5: Assessor(s) | F5: Avg Buffer Width (ft) | G5: 0-30 / 30-100 / 100+
A6: Overall | B6: Outcomes | D6: Categories | F6: Variable | I6: Indicators
A7: Index Score | B7: Name | C7: Index Score | D7: Name | E7: Index Score | F7: Name | G7: Variable Score Check | H7: Manual Score | I7: Name | J7: Likert Scale Score
A9: =AVERAGE(C9:C49) -> #DIV/0! | B9: Instream Functions | C9: =AVERAGE(H9:H27)/15 -> #DIV/0! | D9: Physical Processes | E9: =IF(AVERAGE(H9:H20)/15<=0.39, "Non-Functioning", IF(AVERAGE(H9:H20)/15<=0.69, "Functioning At-Risk", "Functioning")) -> #DIV/0! | F9: Upland Runoff | G9: =AVERAGEIF(Calculations!J5:J8,"<>#N/A") -> #DIV/0! | I9: Overland Runoff
I10: Bypassing Flows
I11: Floodplain Slope
I12: Runoff Pollution
F13: Hydrologic Connection | G13: =AVERAGEIF(Calculations!J9:J12,"<>#N/A") -> #DIV/0! | I13: Floodplain Connectivity
I14: Floodplain Roughness
I15: Flood Storage
I16: Upstream Hydrology
F17: Streambank Processes | G17: =AVERAGEIF(Calculations!J13:J16,"<>#N/A") -> #DIV/0! | I17: Erosion Potential
I18: Reach Erosion
I19: Channel Evolution
I20: Sediment Supply
D21: Biogeochemical Processes | E21: =IF(AVERAGE(H21:H27)/15<=0.39, "Non-Functioning", IF(AVERAGE(H21:H27)/15<=0.69, "Functioning At-Risk", "Functioning")) -> #DIV/0! | F21: Energy, Nutrients, and Sediment | G21: =AVERAGEIF(Calculations!J17:J20,"<>#N/A") -> #DIV/0! | I21: Carbon Sources
I22: Root Zone
I23: Soil Suitability
I24: Mobilizing Flows
F25: Riparian Filtering | G25: =AVERAGEIF(Calculations!J21:J23,"<>#N/A") -> #DIV/0! | I25: Buffer Width
I26: Buffer Density
I27: Ground Cover
B28: Ecological Connectivity | C28: =AVERAGE(H28:H33)/15 -> #DIV/0! | D28: Lateral | E28: =IF(AVERAGE(H28:H30)/15<=0.39, "Non-Functioning", IF(AVERAGE(H28:H30)/15<=0.69, "Functioning At-Risk", "Functioning")) -> #DIV/0! | F28: Lateral Processes | G28: =AVERAGEIF(Calculations!J24:J26,"<>#N/A") -> #DIV/0! | I28: Adjacent Land Use
I29: Average Buffer Width
I30: Distance from Buffer
D31: Longitudinal | E31: =IF(AVERAGE(H31:H33)/15<=0.39, "Non-Functioning", IF(AVERAGE(H31:H33)/15<=0.69, "Functioning At-Risk", "Functioning")) -> #DIV/0! | F31: Longitudinal Movement and Habitat | G31: =AVERAGEIF(Calculations!J27:J29,"<>#N/A") -> #DIV/0! | I31: Corridor Movement
I32: Habitat Interspersion
I33: Patch Distance
B34: Unique and Important Habitats | C34: =((AVERAGEIF(H34:H49,"<>#N/A")/15)) -> #DIV/0! | D34: Terrestrial | E34: =IF(AVERAGEIF(H34:H46,"<>#N/A")/15<=0.39, "Non-Functioning", IF(AVERAGEIF(H34:H46,"<>#N/A")/15<=0.69, "Functioning At-Risk", "Functioning")) -> #DIV/0! | F34: Plant Community | G34: =AVERAGEIF(Calculations!J30:J33,"<>#N/A") -> #DIV/0! | I34: Riparian Extent Vegetation
I35: Invasive/Non-Native Species
I36: Native Species Regeneration/Recruitment
I37: Vegetative Diversity
F38: Canopy Habitat | G38: =AVERAGEIF(Calculations!J34:J36,"<>#N/A") -> #DIV/0! | I38: Vertical Structural Diversity
I39: Horizontal Structural Diversity
I40: Woody Species Richness
F41: Understory Habitat | G41: =AVERAGEIF(Calculations!J37:J39,"<>#N/A") -> #DIV/0! | I41: Vegetation Age Diversity
I42: Stem Abundance
I43: Snag Density
F44: Forest Floor Habitat | G44: =AVERAGEIF(Calculations!J40:J42,"<>#N/A") -> #DIV/0! | I44: Detritus Cover
I45: Herbaceous Cover
I46: Vegetation Supporting Litter Dynamics
D47: Aquatic | E47: =IF(AVERAGE(H47:H49)/15<=0.39, "Non-Functioning", IF(AVERAGE(H47:H49)/15<=0.69, "Functioning At-Risk", "Functioning")) -> #DIV/0! | F47: Stream Habitat | G47: =AVERAGEIF(Calculations!J43:J45,"<>#N/A") -> #DIV/0! | I47: Near-Bank Canopy Cover
I48: Near-Bank Organic Material
I49: In-Stream Coarse Wood
A51: Other Indicators/Notes:

Sheet Calculations
A1: **DO NOT INPUT VALUES HERE**
A3: Category | B3: Value | C3: Red (0-5) | D3: Yellow (6-10) | E3: Green (11-15) | G3: Strongly Agree | H3: 14 | J3: Indicator
A4: ='REFI Score Calculator'!F9 -> Upland Runoff | B4: ='REFI Score Calculator'!H9 -> 0 | C4: =IF(B4/15<=0.39, B4, IF(B4/15<=0.69, NA(), NA())) -> 0 | D4: =IF(B4/15<=0.39, NA(), IF(B4/15<=0.69, B4,NA())) -> #N/A | E4: =IF(B4/15<=0.39, NA(), IF(B4/15<=0.69, NA(), B4)) -> #N/A | G4: Agree | H4: 11
A5: ='REFI Score Calculator'!F13 -> Hydrologic Connection | B5: ='REFI Score Calculator'!H13 -> 0 | C5: =IF(B5/15<=0.39, B5, IF(B5/15<=0.69, NA(), NA())) -> 0 | D5: =IF(B5/15<=0.39, NA(), IF(B5/15<=0.69, B5,NA())) -> #N/A | E5: =IF(B5/15<=0.39, NA(), IF(B5/15<=0.69, NA(), B5)) -> #N/A | G5: Neutral | H5: 8 | J5: {=VLOOKUP('REFI Score Calculator'!$J9:$J9,Calculations!$G$3:$H$7,2,FALSE)} -> #N/A
A6: ='REFI Score Calculator'!F17 -> Streambank Processes | B6: ='REFI Score Calculator'!H17 -> 0 | C6: =IF(B6/15<=0.39, B6, IF(B6/15<=0.69, NA(), NA())) -> 0 | D6: =IF(B6/15<=0.39, NA(), IF(B6/15<=0.69, B6,NA())) -> #N/A | E6: =IF(B6/15<=0.39, NA(), IF(B6/15<=0.69, NA(), B6)) -> #N/A | G6: Disagree | H6: 5 | J6: {=VLOOKUP('REFI Score Calculator'!$J10:$J10,Calculations!$G$3:$H$7,2,FALSE)} -> #N/A
A7: ='REFI Score Calculator'!F21 -> Energy, Nutrients, and Sediment | B7: ='REFI Score Calculator'!H21 -> 0 | C7: =IF(B7/15<=0.39, B7, IF(B7/15<=0.69, NA(), NA())) -> 0 | D7: =IF(B7/15<=0.39, NA(), IF(B7/15<=0.69, B7,NA())) -> #N/A | E7: =IF(B7/15<=0.39, NA(), IF(B7/15<=0.69, NA(), B7)) -> #N/A | G7: Strongly Disagree | H7: 2 | J7: {=VLOOKUP('REFI Score Calculator'!$J11:$J11,Calculations!$G$3:$H$7,2,FALSE)} -> #N/A
A8: ='REFI Score Calculator'!F25 -> Riparian Filtering | B8: ='REFI Score Calculator'!H25 -> 0 | C8: =IF(B8/15<=0.39, B8, IF(B8/15<=0.69, NA(), NA())) -> 0 | D8: =IF(B8/15<=0.39, NA(), IF(B8/15<=0.69, B8,NA())) -> #N/A | E8: =IF(B8/15<=0.39, NA(), IF(B8/15<=0.69, NA(), B8)) -> #N/A | G8: NA | J8: {=VLOOKUP('REFI Score Calculator'!$J12:$J12,Calculations!$G$3:$H$7,2,FALSE)} -> #N/A
A9: ='REFI Score Calculator'!F28 -> Lateral Processes | B9: ='REFI Score Calculator'!H28 -> 0 | C9: =IF(B9/15<=0.39, B9, IF(B9/15<=0.69, NA(), NA())) -> 0 | D9: =IF(B9/15<=0.39, NA(), IF(B9/15<=0.69, B9,NA())) -> #N/A | E9: =IF(B9/15<=0.39, NA(), IF(B9/15<=0.69, NA(), B9)) -> #N/A | J9: {=VLOOKUP('REFI Score Calculator'!$J13:$J13,Calculations!$G$3:$H$7,2,FALSE)} -> #N/A
A10: ='REFI Score Calculator'!F31 -> Longitudinal Movement and Habitat | B10: ='REFI Score Calculator'!H31 -> 0 | C10: =IF(B10/15<=0.39, B10, IF(B10/15<=0.69, NA(), NA())) -> 0 | D10: =IF(B10/15<=0.39, NA(), IF(B10/15<=0.69, B10,NA())) -> #N/A | E10: =IF(B10/15<=0.39, NA(), IF(B10/15<=0.69, NA(), B10)) -> #N/A | G10: Calculates values for the "Variable Score Check" in column G | J10: {=VLOOKUP('REFI Score Calculator'!$J14:$J14,Calculations!$G$3:$H$7,2,FALSE)} -> #N/A
A11: ='REFI Score Calculator'!F34 -> Plant Community | B11: ='REFI Score Calculator'!H34 -> 0 | C11: =IF(B11/15<=0.39, B11, IF(B11/15<=0.69, NA(), NA())) -> 0 | D11: =IF(B11/15<=0.39, NA(), IF(B11/15<=0.69, B11,NA())) -> #N/A | E11: =IF(B11/15<=0.39, NA(), IF(B11/15<=0.69, NA(), B11)) -> #N/A | J11: {=VLOOKUP('REFI Score Calculator'!$J15:$J15,Calculations!$G$3:$H$7,2,FALSE)} -> #N/A
A12: ='REFI Score Calculator'!F38 -> Canopy Habitat | B12: ='REFI Score Calculator'!H38 -> 0 | C12: =IF(B12/15<=0.39, B12, IF(B12/15<=0.69, NA(), NA())) -> 0 | D12: =IF(B12/15<=0.39, NA(), IF(B12/15<=0.69, B12,NA())) -> #N/A | E12: =IF(B12/15<=0.39, NA(), IF(B12/15<=0.69, NA(), B12)) -> #N/A | J12: {=VLOOKUP('REFI Score Calculator'!$J16:$J16,Calculations!$G$3:$H$7,2,FALSE)} -> #N/A
A13: ='REFI Score Calculator'!F41 -> Understory Habitat | B13: ='REFI Score Calculator'!H41 -> 0 | C13: =IF(B13/15<=0.39, B13, IF(B13/15<=0.69, NA(), NA())) -> 0 | D13: =IF(B13/15<=0.39, NA(), IF(B13/15<=0.69, B13,NA())) -> #N/A | E13: =IF(B13/15<=0.39, NA(), IF(B13/15<=0.69, NA(), B13)) -> #N/A | J13: {=VLOOKUP('REFI Score Calculator'!$J17:$J17,Calculations!$G$3:$H$7,2,FALSE)} -> #N/A
A14: ='REFI Score Calculator'!F44 -> Forest Floor Habitat | B14: ='REFI Score Calculator'!H44 -> 0 | C14: =IF(B14/15<=0.39, B14, IF(B14/15<=0.69, NA(), NA())) -> 0 | D14: =IF(B14/15<=0.39, NA(), IF(B14/15<=0.69, B14,NA())) -> #N/A | E14: =IF(B14/15<=0.39, NA(), IF(B14/15<=0.69, NA(), B14)) -> #N/A | J14: {=VLOOKUP('REFI Score Calculator'!$J18:$J18,Calculations!$G$3:$H$7,2,FALSE)} -> #N/A
A15: ='REFI Score Calculator'!F47 -> Stream Habitat | B15: ='REFI Score Calculator'!H47 -> 0 | C15: =IF(B15/15<=0.39, B15, IF(B15/15<=0.69, NA(), NA())) -> 0 | D15: =IF(B15/15<=0.39, NA(), IF(B15/15<=0.69, B15,NA())) -> #N/A | E15: =IF(B15/15<=0.39, NA(), IF(B15/15<=0.69, NA(), B15)) -> #N/A | J15: {=VLOOKUP('REFI Score Calculator'!$J19:$J19,Calculations!$G$3:$H$7,2,FALSE)} -> #N/A
A16: ='REFI Score Calculator'!B9 -> Instream Functions | B16: ='REFI Score Calculator'!C9 -> #DIV/0! | C16: =IF(B16<=0.39, B16, IF(B16<=0.69, NA(), NA())) -> #DIV/0! | D16: =IF(B16<=0.39, NA(), IF(B16<=0.69, B16,NA())) -> #DIV/0! | E16: =IF(B16<=0.39, NA(), IF(B16<=0.69, NA(), B16)) -> #DIV/0! | J16: {=VLOOKUP('REFI Score Calculator'!$J20:$J20,Calculations!$G$3:$H$7,2,FALSE)} -> #N/A
A17: ='REFI Score Calculator'!B28 -> Ecological Connectivity | B17: ='REFI Score Calculator'!C28 -> #DIV/0! | C17: =IF(B17<=0.39, B17, IF(B17<=0.69, NA(), NA())) -> #DIV/0! | D17: =IF(B17<=0.39, NA(), IF(B17<=0.69, B17,NA())) -> #DIV/0! | E17: =IF(B17<=0.39, NA(), IF(B17<=0.69, NA(), B17)) -> #DIV/0! | J17: {=VLOOKUP('REFI Score Calculator'!$J21:$J21,Calculations!$G$3:$H$7,2,FALSE)} -> #N/A
A18: ='REFI Score Calculator'!B34 -> Unique and Important Habitats | B18: ='REFI Score Calculator'!C34 -> #DIV/0! | C18: =IF(B18<=0.39, B18, IF(B18<=0.69, NA(), NA())) -> #DIV/0! | D18: =IF(B18<=0.39, NA(), IF(B18<=0.69, B18,NA())) -> #DIV/0! | E18: =IF(B18<=0.39, NA(), IF(B18<=0.69, NA(), B18)) -> #DIV/0! | J18: {=VLOOKUP('REFI Score Calculator'!$J22:$J22,Calculations!$G$3:$H$7,2,FALSE)} -> #N/A
J19: {=VLOOKUP('REFI Score Calculator'!$J23:$J23,Calculations!$G$3:$H$7,2,FALSE)} -> #N/A
A20: Calculates variable and outcome values for the bar charts. | J20: {=VLOOKUP('REFI Score Calculator'!$J24:$J24,Calculations!$G$3:$H$7,2,FALSE)} -> #N/A
J21: {=VLOOKUP('REFI Score Calculator'!$J25:$J25,Calculations!$G$3:$H$7,2,FALSE)} -> #N/A
J22: {=VLOOKUP('REFI Score Calculator'!$J26:$J26,Calculations!$G$3:$H$7,2,FALSE)} -> #N/A
J23: {=VLOOKUP('REFI Score Calculator'!$J27:$J27,Calculations!$G$3:$H$7,2,FALSE)} -> #N/A
J24: {=VLOOKUP('REFI Score Calculator'!$J28:$J28,Calculations!$G$3:$H$7,2,FALSE)} -> #N/A
J25: {=VLOOKUP('REFI Score Calculator'!$J29:$J29,Calculations!$G$3:$H$7,2,FALSE)} -> #N/A
J26: {=VLOOKUP('REFI Score Calculator'!$J30:$J30,Calculations!$G$3:$H$7,2,FALSE)} -> #N/A
J27: {=VLOOKUP('REFI Score Calculator'!$J31:$J31,Calculations!$G$3:$H$7,2,FALSE)} -> #N/A
J28: {=VLOOKUP('REFI Score Calculator'!$J32:$J32,Calculations!$G$3:$H$7,2,FALSE)} -> #N/A
J29: {=VLOOKUP('REFI Score Calculator'!$J33:$J33,Calculations!$G$3:$H$7,2,FALSE)} -> #N/A
J30: {=VLOOKUP('REFI Score Calculator'!$J34:$J34,Calculations!$G$3:$H$7,2,FALSE)} -> #N/A
J31: {=VLOOKUP('REFI Score Calculator'!$J35:$J35,Calculations!$G$3:$H$7,2,FALSE)} -> #N/A
J32: {=VLOOKUP('REFI Score Calculator'!$J36:$J36,Calculations!$G$3:$H$7,2,FALSE)} -> #N/A
... J39: {=VLOOKUP('REFI Score Calculator'!$J43:$J43,Calculations!$G$3:$H$7,2,FALSE)} -> #N/A
H40: Numerical values that correlate to qualitative Likert scale scores in column J | J40: {=VLOOKUP('REFI Score Calculator'!$J44:$J44,Calculations!$G$3:$H$7,2,FALSE)} -> #N/A
J41: {=VLOOKUP('REFI Score Calculator'!$J45:$J45,Calculations!$G$3:$H$7,2,FALSE)} -> #N/A
J42: {=VLOOKUP('REFI Score Calculator'!$J46:$J46,Calculations!$G$3:$H$7,2,FALSE)} -> #N/A
J43: {=VLOOKUP('REFI Score Calculator'!$J47:$J47,Calculations!$G$3:$H$7,2,FALSE)} -> #N/A
J44: {=VLOOKUP('REFI Score Calculator'!$J48:$J48,Calculations!$G$3:$H$7,2,FALSE)} -> #N/A
J45: {=VLOOKUP('REFI Score Calculator'!$J49:$J49,Calculations!$G$3:$H$7,2,FALSE)} -> #N/A

Sheet Sheet1
G19: Condition Index | H19: Variable Scoring
D20: Functioning | G20: 1 | H20: 15
H21: 14
H22: 13
H23: 12
G24: 0.7 | H24: 11
D25: Functioning At-Risk | H25: 10
H26: 9
H27: 8
H28: 7
G29: 0.4 | H29: 6
D30: Non-Functioning | H30: 5
H31: 4
H32: 3
H33: 2
H34: 1
G35: 0 | H35: 0

Sheet REFI Multiple Score
A14: Riparian Zone Ecological Function Index (REFI) Worksheet | N14: Optional Automated Scoring | Q14: Strongly Agree | S14: Both | T14: 2
A15: Reach | I15: Columns for Multiple Score Reach | N15: Strongly Agree | O15: 14 | Q15: Somewhat Agree | S15: Left | T15: 1
A16: Lat/Long | H16: Score ID | N16: Somewhat Agree | O16: 11 | Q16: Neutral | S16: Right | T16: 1
A17: Date | H17: River Bank (Both / Left / Right) | N17: Neutral | O17: 8 | Q17: Somewhat Disagree
A18: Assessor | H18: Score Length | N18: Somewhat Disagree | O18: 5 | Q18: Strongly Disagree | S18: Length | T18: =IFERROR(SUMIF(_xlfn.ANCHORARRAY(R20),"<>#N/A"),NA()) -> 0
A19: Overall | B19: Outcomes | D19: Categories | F19: Variable | H19: Indicators | N19: Strongly Disagree | O19: 2 | Q19: NA
A20: Index Score | B20: Name | C20: Index Score | D20: Name | E20: Index Score | F20: Name | G20: Score | H20: Name | I20: Likert Scale Score | J20: Likert Scale Score | K20: Likert Scale Score | L20: Likert Scale Score | N20: Variable Score | O20: Indicator | R20: {=IF(NOT($I$18:$L$18=0),$I$18:$L$18*(VLOOKUP($I$17:$L$17,$S$14:$T$16,2,FALSE)),NA())} -> #N/A | S20: #N/A | T20: #N/A | U20: #N/A
Q21: Subtotal
A22: =AVERAGE(C22:C56) -> #DIV/0! | B22: Instream functions | C22: =AVERAGE(E22:E40) -> #DIV/0! | D22: Physical Processes | E22: =AVERAGE(G22:G33) -> #DIV/0! | F22: Upland Runoff | H22: Direct Runoff | N22: =AVERAGEIF(O22:O25,"<>#N/A") -> #DIV/0! | O22: =IF($Q22>=1,$Q22,NA()) -> #N/A | Q22: =IFERROR(SUMIF(_xlfn.ANCHORARRAY(R22),"<>#N/A"),NA()) -> 0 | R22: {=VLOOKUP($I22:$L22,$N$15:$O$19,2,FALSE)*(_xlfn.ANCHORARRAY($R$20)/$T$18)} -> #N/A | S22: #N/A | T22: #N/A | U22: #N/A
H23: Bypassing Flows | O23: =IF($Q23>=1,$Q23,NA()) -> #N/A | Q23: =IFERROR(SUMIF(_xlfn.ANCHORARRAY(R23),"<>#N/A"),NA()) -> 0 | R23: {=VLOOKUP($I23:$L23,$N$15:$O$19,2,FALSE)*(_xlfn.ANCHORARRAY($R$20)/$T$18)} -> #N/A | S23: #N/A | T23: #N/A | U23: #N/A
H24: Floodplain Slope
H25: Runoff Pollution | O25: =IF($Q25>=1,$Q25,NA()) -> #N/A | Q25: =IFERROR(SUMIF(_xlfn.ANCHORARRAY(R25),"<>#N/A"),NA()) -> 0 | R25: {=VLOOKUP($I25:$L25,$N$15:$O$19,2,FALSE)*(_xlfn.ANCHORARRAY($R$20)/$T$18)} -> #N/A | S25: #N/A | T25: #N/A | U25: #N/A
F26: Hydrologic Connection | H26: Floodplain Connectivity | N26: =AVERAGEIF(O26:O29,"<>#N/A") -> #DIV/0! | O26: =IF($Q26>=1,$Q26,NA()) -> #N/A | Q26: =IFERROR(SUMIF(_xlfn.ANCHORARRAY(R26),"<>#N/A"),NA()) -> 0 | R26: {=VLOOKUP($I26:$L26,$N$15:$O$19,2,FALSE)*(_xlfn.ANCHORARRAY($R$20)/$T$18)} -> #N/A | S26: #N/A | T26: #N/A | U26: #N/A
H27: Floodplain Roughness | O27: =IF($Q27>=1,$Q27,NA()) -> #N/A | Q27: =IFERROR(SUMIF(_xlfn.ANCHORARRAY(R27),"<>#N/A"),NA()) -> 0 | R27: {=VLOOKUP($I27:$L27,$N$15:$O$19,2,FALSE)*(_xlfn.ANCHORARRAY($R$20)/$T$18)} -> #N/A | S27: #N/A | T27: #N/A | U27: #N/A
H28: Flood Storage
H29: Instream Hydrology | O29: =IF($Q29>=1,$Q29,NA()) -> #N/A | Q29: =IFERROR(SUMIF(_xlfn.ANCHORARRAY(R29),"<>#N/A"),NA()) -> 0 | R29: {=VLOOKUP($I29:$L29,$N$15:$O$19,2,FALSE)*(_xlfn.ANCHORARRAY($R$20)/$T$18)} -> #N/A | S29: #N/A | T29: #N/A | U29: #N/A
F30: Streamflow Processes | H30: Erosion Potential | N30: =AVERAGEIF(O30:O33,"<>#N/A") -> #DIV/0! | O30: =IF($Q30>=1,$Q30,NA()) -> #N/A | Q30: =IFERROR(SUMIF(_xlfn.ANCHORARRAY(R30),"<>#N/A"),NA()) -> 0 | R30: {=VLOOKUP($I30:$L30,$N$15:$O$19,2,FALSE)*(_xlfn.ANCHORARRAY($R$20)/$T$18)} -> #N/A | S30: #N/A | T30: #N/A | U30: #N/A
H31: Reach Erosion | O31: =IF($Q31>=1,$Q31,NA()) -> #N/A | Q31: =IFERROR(SUMIF(_xlfn.ANCHORARRAY(R31),"<>#N/A"),NA()) -> 0 | R31: {=VLOOKUP($I31:$L31,$N$15:$O$19,2,FALSE)*(_xlfn.ANCHORARRAY($R$20)/$T$18)} -> #N/A | S31: #N/A | T31: #N/A | U31: #N/A
H32: Channel Evolution
H33: Sediment Supply | O33: =IF($Q33>=1,$Q33,NA()) -> #N/A | Q33: =IFERROR(SUMIF(_xlfn.ANCHORARRAY(R33),"<>#N/A"),NA()) -> 0 | R33: {=VLOOKUP($I33:$L33,$N$15:$O$19,2,FALSE)*(_xlfn.ANCHORARRAY($R$20)/$T$18)} -> #N/A | S33: #N/A | T33: #N/A | U33: #N/A
D34: Biogeochemical Processes | E34: =AVERAGE(G34:G40) -> #DIV/0! | F34: Energy Sources and Biogeochemical Processes | H34: Carbon Sources | N34: =AVERAGEIF(O34:O37,"<>#N/A") -> #DIV/0! | O34: =IF($Q34>=1,$Q34,NA()) -> #N/A | Q34: =IFERROR(SUMIF(_xlfn.ANCHORARRAY(R34),"<>#N/A"),NA()) -> 0 | R34: {=VLOOKUP($I34:$L34,$N$15:$O$19,2,FALSE)*(_xlfn.ANCHORARRAY($R$20)/$T$18)} -> #N/A | S34: #N/A | T34: #N/A | U34: #N/A
H35: Root Zone | O35: =IF($Q35>=1,$Q35,NA()) -> #N/A | Q35: =IFERROR(SUMIF(_xlfn.ANCHORARRAY(R35),"<>#N/A"),NA()) -> 0 | R35: {=VLOOKUP($I35:$L35,$N$15:$O$19,2,FALSE)*(_xlfn.ANCHORARRAY($R$20)/$T$18)} -> #N/A | S35: #N/A | T35: #N/A | U35: #N/A
H36: Soil Suitability
H37: Mobilizing Flows | O37: =IF($Q37>=1,$Q37,NA()) -> #N/A | Q37: =IFERROR(SUMIF(_xlfn.ANCHORARRAY(R37),"<>#N/A"),NA()) -> 0 | R37: {=VLOOKUP($I37:$L37,$N$15:$O$19,2,FALSE)*(_xlfn.ANCHORARRAY($R$20)/$T$18)} -> #N/A | S37: #N/A | T37: #N/A | U37: #N/A
F38: Riparian Filtering | H38: Buffer Width | N38: =AVERAGEIF(O38:O40,"<>#N/A") -> #DIV/0! | O38: =IF($Q38>=1,$Q38,NA()) -> #N/A | Q38: =IFERROR(SUMIF(_xlfn.ANCHORARRAY(R38),"<>#N/A"),NA()) -> 0 | R38: {=VLOOKUP($I38:$L38,$N$15:$O$19,2,FALSE)*(_xlfn.ANCHORARRAY($R$20)/$T$18)} -> #N/A | S38: #N/A | T38: #N/A | U38: #N/A
H39: Buffer Density | O39: =IF($Q39>=1,$Q39,NA()) -> #N/A | Q39: =IFERROR(SUMIF(_xlfn.ANCHORARRAY(R39),"<>#N/A"),NA()) -> 0 | R39: {=VLOOKUP($I39:$L39,$N$15:$O$19,2,FALSE)*(_xlfn.ANCHORARRAY($R$20)/$T$18)} -> #N/A | S39: #N/A | T39: #N/A | U39: #N/A
H40: Ground Cover | O40: =IF($Q40>=1,$Q40,NA()) -> #N/A | Q40: =IFERROR(SUMIF(_xlfn.ANCHORARRAY(R40),"<>#N/A"),NA()) -> 0 | R40: {=VLOOKUP($I40:$L40,$N$15:$O$19,2,FALSE)*(_xlfn.ANCHORARRAY($R$20)/$T$18)} -> #N/A | S40: #N/A | T40: #N/A | U40: #N/A
B41: Ecological Connectivity | C41: =AVERAGE(E41:E45) -> #DIV/0! | D41: Lateral | E41: =AVERAGE(G41:G43) -> #DIV/0! | F41: Lateral Disturbance | H41: Adjacent Land Use | N41: =AVERAGEIF(O41:O43,"<>#N/A") -> #DIV/0! | O41: =IF($Q41>=1,$Q41,NA()) -> #N/A | Q41: =IFERROR(SUMIF(_xlfn.ANCHORARRAY(R41),"<>#N/A"),NA()) -> 0 | R41: {=VLOOKUP($I41:$L41,$N$15:$O$19,2,FALSE)*(_xlfn.ANCHORARRAY($R$20)/$T$18)} -> #N/A | S41: #N/A | T41: #N/A | U41: #N/A
H42: Average Buffer Width | O42: =IF($Q42>=1,$Q42,NA()) -> #N/A | Q42: =IFERROR(SUMIF(_xlfn.ANCHORARRAY(R42),"<>#N/A"),NA()) -> 0 | R42: {=VLOOKUP($I42:$L42,$N$15:$O$19,2,FALSE)*(_xlfn.ANCHORARRAY($R$20)/$T$18)} -> #N/A | S42: #N/A | T42: #N/A | U42: #N/A
H43: Distance from Buffer | O43: =IF($Q43>=1,$Q43,NA()) -> #N/A | Q43: =IFERROR(SUMIF(_xlfn.ANCHORARRAY(R43),"<>#N/A"),NA()) -> 0 | R43: {=VLOOKUP($I43:$L43,$N$15:$O$19,2,FALSE)*(_xlfn.ANCHORARRAY($R$20)/$T$18)} -> #N/A | S43: #N/A | T43: #N/A | U43: #N/A
D44: Longitudinal | E44: =AVERAGE(G44:G45) -> #DIV/0! | F44: Longitudinal Movement and Habitat | H44: Corridor Movement | N44: =AVERAGEIF(O44:O45,"<>#N/A") -> #DIV/0! | O44: =IF($Q44>=1,$Q44,NA()) -> #N/A | Q44: =IFERROR(SUMIF(_xlfn.ANCHORARRAY(R44),"<>#N/A"),NA()) -> 0 | R44: {=VLOOKUP($I44:$L44,$N$15:$O$19,2,FALSE)*(_xlfn.ANCHORARRAY($R$20)/$T$18)} -> #N/A | S44: #N/A | T44: #N/A | U44: #N/A
H45: Habitat Interspersion | O45: =IF($Q45>=1,$Q45,NA()) -> #N/A | Q45: =IFERROR(SUMIF(_xlfn.ANCHORARRAY(R45),"<>#N/A"),NA()) -> 0 | R45: {=VLOOKUP($I45:$L45,$N$15:$O$19,2,FALSE)*(_xlfn.ANCHORARRAY($R$20)/$T$18)} -> #N/A | S45: #N/A | T45: #N/A | U45: #N/A
B46: Unique and Important Habitats | C46: =(E46*0.75)+(E54*0.25) -> 3.5 | D46: Terrestrial | E46: =AVERAGEIF(G46:G53,"<>#N/A")/15 -> 0.33333333 | F46: Plant Community | G46: 5 | H46: Riparian Extent Vegetation | N46: =AVERAGEIF(O46:O47,"<>#N/A") -> #DIV/0! | O46: =IF($Q46>=1,$Q46,NA()) -> #N/A | Q46: =IFERROR(SUMIF(_xlfn.ANCHORARRAY(R46),"<>#N/A"),NA()) -> 0 | R46: {=VLOOKUP($I46:$L46,$N$15:$O$19,2,FALSE)*(_xlfn.ANCHORARRAY($R$20)/$T$18)} -> #N/A | S46: #N/A | T46: #N/A | U46: #N/A
H47: Invasive/Non-Native Species | O47: =IF($Q47>=1,$Q47,NA()) -> #N/A | Q47: =IFERROR(SUMIF(_xlfn.ANCHORARRAY(R47),"<>#N/A"),NA()) -> 0 | R47: {=VLOOKUP($I47:$L47,$N$15:$O$19,2,FALSE)*(_xlfn.ANCHORARRAY($R$20)/$T$18)} -> #N/A | S47: #N/A | T47: #N/A | U47: #N/A
F48: Canopy Habitat | G48: =NA() -> #N/A | H48: Vertical Structural Diversity | N48: =AVERAGEIF(O48:O49,"<>#N/A") -> #DIV/0! | O48: =IF($Q48>=1,$Q48,NA()) -> #N/A | Q48: =IFERROR(SUMIF(_xlfn.ANCHORARRAY(R48),"<>#N/A"),NA()) -> 0 | R48: {=VLOOKUP($I48:$L48,$N$15:$O$19,2,FALSE)*(_xlfn.ANCHORARRAY($R$20)/$T$18)} -> #N/A | S48: #N/A | T48: #N/A | U48: #N/A
H49: Horizontal Structural Diversity | O49: =IF($Q49>=1,$Q49,NA()) -> #N/A | Q49: =IFERROR(SUMIF(_xlfn.ANCHORARRAY(R49),"<>#N/A"),NA()) -> 0 | R49: {=VLOOKUP($I49:$L49,$N$15:$O$19,2,FALSE)*(_xlfn.ANCHORARRAY($R$20)/$T$18)} -> #N/A | S49: #N/A | T49: #N/A | U49: #N/A
F50: Understory Habitat | G50: =NA() -> #N/A | H50: Tree Size Class Diversity | N50: =AVERAGEIF(O50:O51,"<>#N/A") -> #DIV/0! | O50: =IF($Q50>=1,$Q50,NA()) -> #N/A | Q50: =IFERROR(SUMIF(_xlfn.ANCHORARRAY(R50),"<>#N/A"),NA()) -> 0 | R50: {=VLOOKUP($I50:$L50,$N$15:$O$19,2,FALSE)*(_xlfn.ANCHORARRAY($R$20)/$T$18)} -> #N/A | S50: #N/A | T50: #N/A | U50: #N/A
H51: Snag Density | O51: =IF($Q51>=1,$Q51,NA()) -> #N/A | Q51: =IFERROR(SUMIF(_xlfn.ANCHORARRAY(R51),"<>#N/A"),NA()) -> 0 | R51: {=VLOOKUP($I51:$L51,$N$15:$O$19,2,FALSE)*(_xlfn.ANCHORARRAY($R$20)/$T$18)} -> #N/A | S51: #N/A | T51: #N/A | U51: #N/A
F52: Forest Floor Habitat | G52: 5 | H52: Detritus Cover | N52: =AVERAGEIF(O52:O53,"<>#N/A") -> #DIV/0! | O52: =IF($Q52>=1,$Q52,NA()) -> #N/A | Q52: =IFERROR(SUMIF(_xlfn.ANCHORARRAY(R52),"<>#N/A"),NA()) -> 0 | R52: {=VLOOKUP($I52:$L52,$N$15:$O$19,2,FALSE)*(_xlfn.ANCHORARRAY($R$20)/$T$18)} -> #N/A | S52: #N/A | T52: #N/A | U52: #N/A
H53: Terrestrial Vegetation Contribution | O53: =IF($Q53>=1,$Q53,NA()) -> #N/A | Q53: =IFERROR(SUMIF(_xlfn.ANCHORARRAY(R53),"<>#N/A"),NA()) -> 0 | R53: {=VLOOKUP($I53:$L53,$N$15:$O$19,2,FALSE)*(_xlfn.ANCHORARRAY($R$20)/$T$18)} -> #N/A | S53: #N/A | T53: #N/A | U53: #N/A
D54: Aquatic | E54: =AVERAGE(G54:G56) -> 13 | F54: Stream Habitat | G54: 13 | H54: Near-Bank Canopy Cover | N54: =AVERAGEIF(O54:O56,"<>#N/A") -> #DIV/0! | O54: =IF($Q54>=1,$Q54,NA()) -> #N/A | Q54: =IFERROR(SUMIF(_xlfn.ANCHORARRAY(R54),"<>#N/A"),NA()) -> 0 | R54: {=VLOOKUP($I54:$L54,$N$15:$O$19,2,FALSE)*(_xlfn.ANCHORARRAY($R$20)/$T$18)} -> #N/A | S54: #N/A | T54: #N/A | U54: #N/A
H55: Near-Bank Organic Material | O55: =IF($Q55>=1,$Q55,NA()) -> #N/A | Q55: =IFERROR(SUMIF(_xlfn.ANCHORARRAY(R55),"<>#N/A"),NA()) -> 0 | R55: {=VLOOKUP($I55:$L55,$N$15:$O$19,2,FALSE)*(_xlfn.ANCHORARRAY($R$20)/$T$18)} -> #N/A | S55: #N/A | T55: #N/A | U55: #N/A
H56: In-Stream Coarse Wood | O56: =IF($Q56>=1,$Q56,NA()) -> #N/A | Q56: =IFERROR(SUMIF(_xlfn.ANCHORARRAY(R56),"<>#N/A"),NA()) -> 0 | R56: {=VLOOKUP($I56:$L56,$N$15:$O$19,2,FALSE)*(_xlfn.ANCHORARRAY($R$20)/$T$18)} -> #N/A | S56: #N/A | T56: #N/A | U56: #N/A

Sheet Global
B2: For Index Value Type | E2: Measurement Types | G2: Categories | I2: Riparian Classification
B3: 0 | C3: Poor: LL | E3: Numeric | G3: Good | I3: Forested
B4: 0.29 | C4: Poor: UL | E4: Categorical | G4: Fair | I4: Scrub-shrub
B5: 0.3 | C5: Fair: LL | G5: Poor | I5: Herbacious
B6: 0.69 | C6: Fair: UL
B7: 0.7 | C7: Good: LL
B8: 1 | C8: Good: UL
